BEGIN:VCALENDAR
VERSION:2.0
PRODID:-//École Sainte Jeanne d&#039;Arc - ECPv6.15.20//NONSGML v1.0//EN
CALSCALE:GREGORIAN
METHOD:PUBLISH
X-WR-CALNAME:École Sainte Jeanne d&#039;Arc
X-ORIGINAL-URL:https://ecole-sja-houdan.fr
X-WR-CALDESC:Évènements pour École Sainte Jeanne d&#039;Arc
REFRESH-INTERVAL;VALUE=DURATION:PT1H
X-Robots-Tag:noindex
X-PUBLISHED-TTL:PT1H
BEGIN:VTIMEZONE
TZID:Europe/Paris
BEGIN:DAYLIGHT
TZOFFSETFROM:+0100
TZOFFSETTO:+0200
TZNAME:CEST
DTSTART:20240331T010000
END:DAYLIGHT
BEGIN:STANDARD
TZOFFSETFROM:+0200
TZOFFSETTO:+0100
TZNAME:CET
DTSTART:20241027T010000
END:STANDARD
BEGIN:DAYLIGHT
TZOFFSETFROM:+0100
TZOFFSETTO:+0200
TZNAME:CEST
DTSTART:20250330T010000
END:DAYLIGHT
BEGIN:STANDARD
TZOFFSETFROM:+0200
TZOFFSETTO:+0100
TZNAME:CET
DTSTART:20251026T010000
END:STANDARD
BEGIN:DAYLIGHT
TZOFFSETFROM:+0100
TZOFFSETTO:+0200
TZNAME:CEST
DTSTART:20260329T010000
END:DAYLIGHT
BEGIN:STANDARD
TZOFFSETFROM:+0200
TZOFFSETTO:+0100
TZNAME:CET
DTSTART:20261025T010000
END:STANDARD
END:VTIMEZONE
BEGIN:VEVENT
DTSTART;TZID=Europe/Paris:20250207T160000
DTEND;TZID=Europe/Paris:20250207T170000
DTSTAMP:20260421T173221
CREATED:20241208T104048Z
LAST-MODIFIED:20241208T104048Z
UID:2068-1738944000-1738947600@ecole-sja-houdan.fr
SUMMARY:Box Goûter
DESCRIPTION:
URL:https://ecole-sja-houdan.fr/event/box-gouter-3/
CATEGORIES:APEL
END:VEVENT
BEGIN:VEVENT
DTSTART;TZID=Europe/Paris:20250214T160000
DTEND;TZID=Europe/Paris:20250214T170000
DTSTAMP:20260421T173221
CREATED:20241208T104253Z
LAST-MODIFIED:20241208T104253Z
UID:2070-1739548800-1739552400@ecole-sja-houdan.fr
SUMMARY:Chocolat Chaud avant vacances
DESCRIPTION:
URL:https://ecole-sja-houdan.fr/event/chocolat-chaud-avant-vacances/
CATEGORIES:APEL
END:VEVENT
END:VCALENDAR