BEGIN:VCALENDAR
VERSION:2.0
PRODID:-//École Sainte Jeanne d&#039;Arc - ECPv6.15.20//NONSGML v1.0//EN
CALSCALE:GREGORIAN
METHOD:PUBLISH
X-ORIGINAL-URL:https://ecole-sja-houdan.fr
X-WR-CALDESC:Évènements pour École Sainte Jeanne d&#039;Arc
REFRESH-INTERVAL;VALUE=DURATION:PT1H
X-Robots-Tag:noindex
X-PUBLISHED-TTL:PT1H
BEGIN:VTIMEZONE
TZID:Europe/Paris
BEGIN:DAYLIGHT
TZOFFSETFROM:+0100
TZOFFSETTO:+0200
TZNAME:CEST
DTSTART:20240331T010000
END:DAYLIGHT
BEGIN:STANDARD
TZOFFSETFROM:+0200
TZOFFSETTO:+0100
TZNAME:CET
DTSTART:20241027T010000
END:STANDARD
BEGIN:DAYLIGHT
TZOFFSETFROM:+0100
TZOFFSETTO:+0200
TZNAME:CEST
DTSTART:20250330T010000
END:DAYLIGHT
BEGIN:STANDARD
TZOFFSETFROM:+0200
TZOFFSETTO:+0100
TZNAME:CET
DTSTART:20251026T010000
END:STANDARD
BEGIN:DAYLIGHT
TZOFFSETFROM:+0100
TZOFFSETTO:+0200
TZNAME:CEST
DTSTART:20260329T010000
END:DAYLIGHT
BEGIN:STANDARD
TZOFFSETFROM:+0200
TZOFFSETTO:+0100
TZNAME:CET
DTSTART:20261025T010000
END:STANDARD
END:VTIMEZONE
BEGIN:VEVENT
DTSTART;TZID=Europe/Paris:20250404T160000
DTEND;TZID=Europe/Paris:20250404T170000
DTSTAMP:20260421T140312
CREATED:20250326T165313Z
LAST-MODIFIED:20250326T165313Z
UID:2204-1743782400-1743786000@ecole-sja-houdan.fr
SUMMARY:Box Gouter
DESCRIPTION:
URL:https://ecole-sja-houdan.fr/event/box-gouter-7/
CATEGORIES:APEL
END:VEVENT
BEGIN:VEVENT
DTSTART;TZID=Europe/Paris:20250411T120000
DTEND;TZID=Europe/Paris:20250411T133000
DTSTAMP:20260421T140312
CREATED:20241208T104555Z
LAST-MODIFIED:20241208T104555Z
UID:2076-1744372800-1744378200@ecole-sja-houdan.fr
SUMMARY:Bol de Riz
DESCRIPTION:En cette semaine sainte\, le dernier vendredi\, les enfants déjeunent d’un bol de riz et le montant des repas est reversé à une association caritative.
URL:https://ecole-sja-houdan.fr/event/bol-de-riz/
CATEGORIES:École
END:VEVENT
BEGIN:VEVENT
DTSTART;TZID=Europe/Paris:20250429T150000
DTEND;TZID=Europe/Paris:20250429T163000
DTSTAMP:20260421T140312
CREATED:20241208T104628Z
LAST-MODIFIED:20241208T104628Z
UID:2078-1745938800-1745944200@ecole-sja-houdan.fr
SUMMARY:Célébration de Pâques
DESCRIPTION:
URL:https://ecole-sja-houdan.fr/event/celebration-de-paques/
CATEGORIES:École
END:VEVENT
END:VCALENDAR