BEGIN:VCALENDAR
VERSION:2.0
PRODID:-//École Sainte Jeanne d&#039;Arc - ECPv6.15.20//NONSGML v1.0//EN
CALSCALE:GREGORIAN
METHOD:PUBLISH
X-ORIGINAL-URL:https://ecole-sja-houdan.fr
X-WR-CALDESC:Évènements pour École Sainte Jeanne d&#039;Arc
REFRESH-INTERVAL;VALUE=DURATION:PT1H
X-Robots-Tag:noindex
X-PUBLISHED-TTL:PT1H
BEGIN:VTIMEZONE
TZID:Europe/Paris
BEGIN:DAYLIGHT
TZOFFSETFROM:+0100
TZOFFSETTO:+0200
TZNAME:CEST
DTSTART:20240331T010000
END:DAYLIGHT
BEGIN:STANDARD
TZOFFSETFROM:+0200
TZOFFSETTO:+0100
TZNAME:CET
DTSTART:20241027T010000
END:STANDARD
BEGIN:DAYLIGHT
TZOFFSETFROM:+0100
TZOFFSETTO:+0200
TZNAME:CEST
DTSTART:20250330T010000
END:DAYLIGHT
BEGIN:STANDARD
TZOFFSETFROM:+0200
TZOFFSETTO:+0100
TZNAME:CET
DTSTART:20251026T010000
END:STANDARD
BEGIN:DAYLIGHT
TZOFFSETFROM:+0100
TZOFFSETTO:+0200
TZNAME:CEST
DTSTART:20260329T010000
END:DAYLIGHT
BEGIN:STANDARD
TZOFFSETFROM:+0200
TZOFFSETTO:+0100
TZNAME:CET
DTSTART:20261025T010000
END:STANDARD
END:VTIMEZONE
BEGIN:VEVENT
DTSTART;TZID=Europe/Paris:20250513T190000
DTEND;TZID=Europe/Paris:20250513T210000
DTSTAMP:20260421T123239
CREATED:20241208T104706Z
LAST-MODIFIED:20241208T104706Z
UID:2080-1747162800-1747170000@ecole-sja-houdan.fr
SUMMARY:2ème conseil d'établissement
DESCRIPTION:
URL:https://ecole-sja-houdan.fr/event/2eme-conseil-detablissement/
CATEGORIES:École
END:VEVENT
BEGIN:VEVENT
DTSTART;TZID=Europe/Paris:20250516T160000
DTEND;TZID=Europe/Paris:20250516T170000
DTSTAMP:20260421T123239
CREATED:20241208T104734Z
LAST-MODIFIED:20241208T104734Z
UID:2082-1747411200-1747414800@ecole-sja-houdan.fr
SUMMARY:Box Goûter
DESCRIPTION:
URL:https://ecole-sja-houdan.fr/event/box-gouter-5/
CATEGORIES:APEL
END:VEVENT
BEGIN:VEVENT
DTSTART;VALUE=DATE:20250524
DTEND;VALUE=DATE:20250525
DTSTAMP:20260421T123239
CREATED:20241208T104833Z
LAST-MODIFIED:20241208T104833Z
UID:2084-1748044800-1748131199@ecole-sja-houdan.fr
SUMMARY:Portes ouvertes pour toutes les familles
DESCRIPTION:Pour les familles désirant s’inscrire pour l’année suivante où les élèves souhaitant rencontrer leur prochaine maîtresse.
URL:https://ecole-sja-houdan.fr/event/portes-ouvertes-pour-toutes-les-familles/
CATEGORIES:APEL,École
END:VEVENT
END:VCALENDAR